BEGIN:VCALENDAR
VERSION:2.0
PRODID:-//Asambleas - ECPv6.5.0//NONSGML v1.0//EN
CALSCALE:GREGORIAN
METHOD:PUBLISH
X-WR-CALNAME:Asambleas
X-ORIGINAL-URL:https://www.adcolombia.org
X-WR-CALDESC:Eventos para Asambleas
REFRESH-INTERVAL;VALUE=DURATION:PT1H
X-Robots-Tag:noindex
X-PUBLISHED-TTL:PT1H
BEGIN:VTIMEZONE
TZID:UTC
BEGIN:STANDARD
TZOFFSETFROM:+0000
TZOFFSETTO:+0000
TZNAME:UTC
DTSTART:20190101T000000
END:STANDARD
END:VTIMEZONE
BEGIN:VEVENT
DTSTART;VALUE=DATE:20190413
DTEND;VALUE=DATE:20190414
DTSTAMP:20260421T103135
CREATED:20190312T211615Z
LAST-MODIFIED:20190312T211615Z
UID:7691-1555113600-1555199999@www.adcolombia.org
SUMMARY:Arauca
DESCRIPTION:
URL:https://www.adcolombia.org/event/arauca/
LOCATION:Arauca\, Colombia
CATEGORIES:1er Mega DN
ATTACH;FMTTYPE=image/jpeg:https://www.adcolombia.org/wp-content/uploads/2019/03/WhatsApp-Image-2019-02-20-at-4.19.42-PM.jpeg
END:VEVENT
BEGIN:VEVENT
DTSTART;VALUE=DATE:20190407
DTEND;VALUE=DATE:20190408
DTSTAMP:20260421T103135
CREATED:20190328T195332Z
LAST-MODIFIED:20190328T201454Z
UID:7962-1554595200-1554681599@www.adcolombia.org
SUMMARY:Día Nacional de las Misiones Pentecostales
DESCRIPTION:
URL:https://www.adcolombia.org/event/dia-nacional-de-las-misiones-pentecostales/
LOCATION:Iglesia Nacional\, Colombia
CATEGORIES:Pastoral Extensión
ATTACH;FMTTYPE=image/png:https://www.adcolombia.org/wp-content/uploads/2019/03/WhatsApp-Image-2019-03-20-at-3.png
END:VEVENT
BEGIN:VEVENT
DTSTART;VALUE=DATE:20190406
DTEND;VALUE=DATE:20190407
DTSTAMP:20260421T103135
CREATED:20190318T211758Z
LAST-MODIFIED:20190318T211758Z
UID:7777-1554508800-1554595199@www.adcolombia.org
SUMMARY:Meta
DESCRIPTION:
URL:https://www.adcolombia.org/event/meta/
LOCATION:Villavicencio\, Colombia
CATEGORIES:Distrito centro
ATTACH;FMTTYPE=image/jpeg:https://www.adcolombia.org/wp-content/uploads/2019/03/Meta.jpeg
END:VEVENT
BEGIN:VEVENT
DTSTART;VALUE=DATE:20190406
DTEND;VALUE=DATE:20190407
DTSTAMP:20260421T103135
CREATED:20190312T205702Z
LAST-MODIFIED:20190312T211611Z
UID:7683-1554508800-1554595199@www.adcolombia.org
SUMMARY:Sicelejo
DESCRIPTION:
URL:https://www.adcolombia.org/event/sicelejo/
LOCATION:Sincelejo\, Colombia
CATEGORIES:1er Mega DN
ATTACH;FMTTYPE=image/jpeg:https://www.adcolombia.org/wp-content/uploads/2019/03/WhatsApp-Image-2019-02-20-at-4.19.42-PM-1.jpeg
END:VEVENT
BEGIN:VEVENT
DTSTART;VALUE=DATE:20190330
DTEND;VALUE=DATE:20190331
DTSTAMP:20260421T103135
CREATED:20190309T031522Z
LAST-MODIFIED:20190312T210906Z
UID:7648-1553904000-1553990399@www.adcolombia.org
SUMMARY:Bucaramanga
DESCRIPTION:
URL:https://www.adcolombia.org/event/bucaramanga/
LOCATION:Bucaramanga\, Colombia
CATEGORIES:1er Mega DN
ATTACH;FMTTYPE=image/jpeg:https://www.adcolombia.org/wp-content/uploads/2019/03/WhatsApp-Image-2019-02-25-at-10.25.11-AM.jpeg
END:VEVENT
BEGIN:VEVENT
DTSTART;VALUE=DATE:20190316
DTEND;VALUE=DATE:20190317
DTSTAMP:20260421T103135
CREATED:20181011T011337Z
LAST-MODIFIED:20190321T213502Z
UID:5909-1552694400-1552780799@www.adcolombia.org
SUMMARY:Santa Marta
DESCRIPTION:[vc_row type=”in_container” full_screen_row_position=”middle” scene_position=”center” text_color=”dark” text_align=”left” overlay_strength=”0.3″ shape_divider_position=”bottom”][vc_column column_padding=”no-extra-padding” column_padding_position=”all” background_color_opacity=”1″ background_hover_color_opacity=”1″ column_link_target=”_self” column_shadow=”none” column_border_radius=”none” width=”1/1″ tablet_width_inherit=”default” tablet_text_alignment=”default” phone_text_alignment=”default” column_border_width=”none” column_border_style=”solid”][vc_column_text]Descripción del evento[/vc_column_text][/vc_column][/vc_row]
URL:https://www.adcolombia.org/event/santa-marta/
LOCATION:Santa Marta\, Colombia
CATEGORIES:Distrito norte
ATTACH;FMTTYPE=image/jpeg:https://www.adcolombia.org/wp-content/uploads/2018/10/WhatsApp-Image-2019-02-20-at-4.19.42-PM-2.jpeg
END:VEVENT
BEGIN:VEVENT
DTSTART;TZID=UTC:20190228T080000
DTEND;TZID=UTC:20190228T170000
DTSTAMP:20260421T103135
CREATED:20181228T204443Z
LAST-MODIFIED:20181228T204534Z
UID:6343-1551340800-1551373200@www.adcolombia.org
SUMMARY:Campamento para Exploradores
DESCRIPTION:
URL:https://www.adcolombia.org/event/campamento-para-exploradores/
CATEGORIES:Pastoral a la niñez
ATTACH;FMTTYPE=image/jpeg:https://www.adcolombia.org/wp-content/uploads/2018/12/36865665_2070911816483335_158221668857151488_n.jpg
END:VEVENT
BEGIN:VEVENT
DTSTART;TZID=UTC:20190215T080000
DTEND;TZID=UTC:20190215T170000
DTSTAMP:20260421T103135
CREATED:20181011T035845Z
LAST-MODIFIED:20181228T202922Z
UID:5959-1550217600-1550250000@www.adcolombia.org
SUMMARY:Segunda capacitación distrito norte
DESCRIPTION:
URL:https://www.adcolombia.org/event/segunda-capacitacion-distrito-norte/
CATEGORIES:Distrito norte
ATTACH;FMTTYPE=image/jpeg:https://www.adcolombia.org/wp-content/uploads/2018/10/Iglesia.jpeg
END:VEVENT
END:VCALENDAR